Package: SPONGE Version: 1.28.0 Command: /Library/Frameworks/R.framework/Resources/bin/R CMD build --keep-empty-dirs --no-resave-data SPONGE StartedAt: 2025-02-04 09:04:34 -0500 (Tue, 04 Feb 2025) EndedAt: 2025-02-04 09:09:25 -0500 (Tue, 04 Feb 2025) EllapsedTime: 291.3 seconds RetCode: 0 Status: OK PackageFile: SPONGE_1.28.0.tar.gz PackageFileSize: 8.973 MiB