Package: SPONGE Version: 1.28.0 Command: rm -rf SPONGE.buildbin-libdir && mkdir SPONGE.buildbin-libdir && /Users/biocbuild/BBS/utils/build-universal.sh SPONGE_1.28.0.tar.gz /Library/Frameworks/R.framework/Resources/bin/R SPONGE.buildbin-libdir StartedAt: 2025-01-31 13:47:07 -0500 (Fri, 31 Jan 2025) EndedAt: 2025-01-31 13:49:19 -0500 (Fri, 31 Jan 2025) EllapsedTime: 132.3 seconds RetCode: 0 Status: OK PackageFile: SPONGE_1.28.0.tgz PackageFileSize: 8.728 MiB