Package: SPONGE Version: 1.28.0 Command: rm -rf SPONGE.buildbin-libdir && mkdir SPONGE.buildbin-libdir && F:\biocbuild\bbs-3.20-bioc\R\bin\R.exe CMD INSTALL --build --library=SPONGE.buildbin-libdir SPONGE_1.28.0.tar.gz StartedAt: 2025-02-04 09:36:25 -0500 (Tue, 04 Feb 2025) EndedAt: 2025-02-04 09:38:01 -0500 (Tue, 04 Feb 2025) EllapsedTime: 96.3 seconds RetCode: 0 Status: OK PackageFile: SPONGE_1.28.0.zip PackageFileSize: 8.425 MiB