Package: SPONGE Version: 1.28.0 Command: /home/biocbuild/R/R/bin/R CMD build --keep-empty-dirs --no-resave-data SPONGE StartedAt: 2025-02-11 02:51:10 -0000 (Tue, 11 Feb 2025) EndedAt: 2025-02-11 02:55:10 -0000 (Tue, 11 Feb 2025) EllapsedTime: 240.1 seconds RetCode: 0 Status: OK PackageFile: SPONGE_1.28.0.tar.gz PackageFileSize: 8.815 MiB