Package: SPOTlight Version: 1.10.0 Command: /Library/Frameworks/R.framework/Resources/bin/R CMD build --keep-empty-dirs --no-resave-data SPOTlight StartedAt: 2025-01-31 08:52:25 -0500 (Fri, 31 Jan 2025) EndedAt: 2025-01-31 08:55:56 -0500 (Fri, 31 Jan 2025) EllapsedTime: 210.9 seconds RetCode: 0 Status: OK PackageFile: SPOTlight_1.10.0.tar.gz PackageFileSize: 4.598 MiB