Package: SPOTlight Version: 1.10.0 Command: /Library/Frameworks/R.framework/Resources/bin/R CMD INSTALL SPOTlight StartedAt: 2025-01-30 16:23:03 -0500 (Thu, 30 Jan 2025) EndedAt: 2025-01-30 16:23:35 -0500 (Thu, 30 Jan 2025) EllapsedTime: 31.5 seconds RetCode: 0 Status: OK