Package: SPOTlight Version: 1.10.0 Command: rm -rf SPOTlight.buildbin-libdir && mkdir SPOTlight.buildbin-libdir && /Users/biocbuild/BBS/utils/build-universal.sh SPOTlight_1.10.0.tar.gz /Library/Frameworks/R.framework/Resources/bin/R SPOTlight.buildbin-libdir StartedAt: 2025-01-31 13:47:10 -0500 (Fri, 31 Jan 2025) EndedAt: 2025-01-31 13:48:11 -0500 (Fri, 31 Jan 2025) EllapsedTime: 61.0 seconds RetCode: 0 Status: OK PackageFile: SPOTlight_1.10.0.tgz PackageFileSize: 4.262 MiB