Package: SPOTlight Version: 1.10.0 Command: /Library/Frameworks/R.framework/Resources/bin/R CMD build --keep-empty-dirs --no-resave-data SPOTlight StartedAt: 2025-01-30 23:10:26 -0500 (Thu, 30 Jan 2025) EndedAt: 2025-01-30 23:15:21 -0500 (Thu, 30 Jan 2025) EllapsedTime: 294.8 seconds RetCode: 0 Status: OK PackageFile: SPOTlight_1.10.0.tar.gz PackageFileSize: 4.583 MiB