Package: SPOTlight Version: 1.10.0 Command: /Library/Frameworks/R.framework/Resources/bin/R CMD check --install=check:SPOTlight.install-out.txt --library=/Library/Frameworks/R.framework/Resources/library --no-vignettes --timings SPOTlight_1.10.0.tar.gz StartedAt: 2025-01-31 10:40:25 -0500 (Fri, 31 Jan 2025) EndedAt: 2025-01-31 10:49:55 -0500 (Fri, 31 Jan 2025) EllapsedTime: 570.3 seconds RetCode: 0 Status: OK CheckDir: SPOTlight.Rcheck Warnings: 0