Package: SPOTlight Version: 1.10.0 Command: /home/biocbuild/bbs-3.20-bioc/R/bin/R CMD build --keep-empty-dirs --no-resave-data --md5 SPOTlight StartedAt: 2025-01-30 19:19:34 -0500 (Thu, 30 Jan 2025) EndedAt: 2025-01-30 19:22:04 -0500 (Thu, 30 Jan 2025) EllapsedTime: 150.3 seconds RetCode: 0 Status: OK PackageFile: SPOTlight_1.10.0.tar.gz PackageFileSize: 3.707 MiB