Package: SPOTlight Version: 1.10.0 Command: rm -rf SPOTlight.buildbin-libdir && mkdir SPOTlight.buildbin-libdir && F:\biocbuild\bbs-3.20-bioc\R\bin\R.exe CMD INSTALL --build --library=SPOTlight.buildbin-libdir SPOTlight_1.10.0.tar.gz StartedAt: 2025-01-31 09:43:04 -0500 (Fri, 31 Jan 2025) EndedAt: 2025-01-31 09:43:36 -0500 (Fri, 31 Jan 2025) EllapsedTime: 32.2 seconds RetCode: 0 Status: OK PackageFile: SPOTlight_1.10.0.zip PackageFileSize: 1.477 MiB