Package: SPOTlight Version: 1.10.0 Command: chmod a+r SPOTlight -R && F:\biocbuild\bbs-3.20-bioc\R\bin\R.exe CMD build --keep-empty-dirs --no-resave-data SPOTlight StartedAt: 2025-01-30 22:05:50 -0500 (Thu, 30 Jan 2025) EndedAt: 2025-01-30 22:09:58 -0500 (Thu, 30 Jan 2025) EllapsedTime: 248.9 seconds RetCode: 0 Status: OK PackageFile: SPOTlight_1.10.0.tar.gz PackageFileSize: 1.797 MiB