Package: SRAdb Version: 1.68.1 Command: rm -rf SRAdb.buildbin-libdir && mkdir SRAdb.buildbin-libdir && /Users/biocbuild/BBS/utils/build-universal.sh SRAdb_1.68.1.tar.gz /Library/Frameworks/R.framework/Resources/bin/R SRAdb.buildbin-libdir StartedAt: 2025-02-05 17:59:41 -0500 (Wed, 05 Feb 2025) EndedAt: 2025-02-05 17:59:48 -0500 (Wed, 05 Feb 2025) EllapsedTime: 7.9 seconds RetCode: 0 Status: OK PackageFile: SRAdb_1.68.1.tgz PackageFileSize: 845.7 KiB