Package: SRAdb Version: 1.68.1 Command: /Library/Frameworks/R.framework/Resources/bin/R CMD build --keep-empty-dirs --no-resave-data SRAdb StartedAt: 2025-01-31 08:56:44 -0500 (Fri, 31 Jan 2025) EndedAt: 2025-01-31 08:57:00 -0500 (Fri, 31 Jan 2025) EllapsedTime: 15.9 seconds RetCode: 0 Status: OK PackageFile: SRAdb_1.68.1.tar.gz PackageFileSize: 889.4 KiB