Package: SRAdb Version: 1.68.1 Command: /Library/Frameworks/R.framework/Resources/bin/R CMD check --install=check:SRAdb.install-out.txt --library=/Library/Frameworks/R.framework/Resources/library --no-vignettes --timings SRAdb_1.68.1.tar.gz StartedAt: 2025-02-01 10:54:06 -0500 (Sat, 01 Feb 2025) EndedAt: 2025-02-01 10:54:50 -0500 (Sat, 01 Feb 2025) EllapsedTime: 43.4 seconds RetCode: 0 Status: OK CheckDir: SRAdb.Rcheck Warnings: 0