Package: SRAdb Version: 1.68.1 Command: rm -rf SRAdb.buildbin-libdir && mkdir SRAdb.buildbin-libdir && /Users/biocbuild/BBS/utils/build-universal.sh SRAdb_1.68.1.tar.gz /Library/Frameworks/R.framework/Resources/bin/R SRAdb.buildbin-libdir StartedAt: 2025-01-31 13:47:48 -0500 (Fri, 31 Jan 2025) EndedAt: 2025-01-31 13:48:01 -0500 (Fri, 31 Jan 2025) EllapsedTime: 13.5 seconds RetCode: 0 Status: OK PackageFile: SRAdb_1.68.1.tgz PackageFileSize: 845.4 KiB