Package: SRAdb Version: 1.68.1 Command: /Library/Frameworks/R.framework/Resources/bin/R CMD INSTALL SRAdb StartedAt: 2025-01-30 15:27:00 -0500 (Thu, 30 Jan 2025) EndedAt: 2025-01-30 15:27:12 -0500 (Thu, 30 Jan 2025) EllapsedTime: 11.8 seconds RetCode: 0 Status: OK