Package: SRAdb Version: 1.68.1 Command: rm -rf SRAdb.buildbin-libdir && mkdir SRAdb.buildbin-libdir && F:\biocbuild\bbs-3.20-bioc\R\bin\R.exe CMD INSTALL --build --library=SRAdb.buildbin-libdir SRAdb_1.68.1.tar.gz StartedAt: 2025-02-04 09:36:51 -0500 (Tue, 04 Feb 2025) EndedAt: 2025-02-04 09:37:03 -0500 (Tue, 04 Feb 2025) EllapsedTime: 12.3 seconds RetCode: 0 Status: OK PackageFile: SRAdb_1.68.1.zip PackageFileSize: 718.4 KiB