Package: SRAdb Version: 1.68.1 Command: /home/biocbuild/R/R/bin/R CMD check --install=check:SRAdb.install-out.txt --library=/home/biocbuild/R/R/site-library --no-vignettes --timings SRAdb_1.68.1.tar.gz StartedAt: 2025-02-04 11:24:55 -0000 (Tue, 04 Feb 2025) EndedAt: 2025-02-04 11:25:27 -0000 (Tue, 04 Feb 2025) EllapsedTime: 32.0 seconds RetCode: 0 Status: OK CheckDir: SRAdb.Rcheck Warnings: 0