Package: SRAdb Version: 1.68.1 Command: /home/biocbuild/R/R/bin/R CMD INSTALL SRAdb StartedAt: 2025-02-03 20:35:01 -0000 (Mon, 03 Feb 2025) EndedAt: 2025-02-03 20:35:07 -0000 (Mon, 03 Feb 2025) EllapsedTime: 6.1 seconds RetCode: 0 Status: OK