Package: STATegRa
Version: 1.42.0
Command: rm -rf STATegRa.buildbin-libdir && mkdir STATegRa.buildbin-libdir && /Users/biocbuild/BBS/utils/build-universal.sh STATegRa_1.42.0.tar.gz /Library/Frameworks/R.framework/Resources/bin/R STATegRa.buildbin-libdir
StartedAt: 2024-11-20 04:54:19 -0500 (Wed, 20 Nov 2024)
EndedAt: 2024-11-20 04:54:42 -0500 (Wed, 20 Nov 2024)
EllapsedTime: 23.0 seconds
RetCode: 0
Status: OK
PackageFile: STATegRa_1.42.0.tgz
PackageFileSize: 4.879 <A href="http://en.wikipedia.org/wiki/MiB" target="_blank">MiB</A>