Package: STATegRa Version: 1.42.0 Command: /Library/Frameworks/R.framework/Resources/bin/R CMD INSTALL STATegRa StartedAt: 2025-02-03 15:27:01 -0500 (Mon, 03 Feb 2025) EndedAt: 2025-02-03 15:27:33 -0500 (Mon, 03 Feb 2025) EllapsedTime: 31.2 seconds RetCode: 0 Status: OK