Package: STATegRa Version: 1.42.0 Command: /home/biocbuild/bbs-3.20-bioc/R/bin/R CMD INSTALL STATegRa StartedAt: 2025-02-03 15:22:50 -0500 (Mon, 03 Feb 2025) EndedAt: 2025-02-03 15:23:01 -0500 (Mon, 03 Feb 2025) EllapsedTime: 11.7 seconds RetCode: 0 Status: OK