Package: STATegRa Version: 1.42.0 Command: /home/biocbuild/R/R/bin/R CMD build --keep-empty-dirs --no-resave-data STATegRa StartedAt: 2025-02-04 03:20:12 -0000 (Tue, 04 Feb 2025) EndedAt: 2025-02-04 03:23:57 -0000 (Tue, 04 Feb 2025) EllapsedTime: 225.3 seconds RetCode: 0 Status: OK PackageFile: STATegRa_1.42.0.tar.gz PackageFileSize: 4.365 MiB