Package: STRINGdb Version: 2.18.0 Command: rm -rf STRINGdb.buildbin-libdir && mkdir STRINGdb.buildbin-libdir && /Users/biocbuild/BBS/utils/build-universal.sh STRINGdb_2.18.0.tar.gz /Library/Frameworks/R.framework/Resources/bin/R STRINGdb.buildbin-libdir StartedAt: 2025-01-31 13:48:33 -0500 (Fri, 31 Jan 2025) EndedAt: 2025-01-31 13:48:48 -0500 (Fri, 31 Jan 2025) EllapsedTime: 14.9 seconds RetCode: 0 Status: OK PackageFile: STRINGdb_2.18.0.tgz PackageFileSize: 10.13 MiB