Package: STRINGdb Version: 2.18.0 Command: /home/biocbuild/R/R/bin/R CMD build --keep-empty-dirs --no-resave-data STRINGdb StartedAt: 2025-02-04 03:20:48 -0000 (Tue, 04 Feb 2025) EndedAt: 2025-02-04 03:26:27 -0000 (Tue, 04 Feb 2025) EllapsedTime: 339.5 seconds RetCode: 0 Status: OK PackageFile: STRINGdb_2.18.0.tar.gz PackageFileSize: 9.942 MiB