##############################################################################
##############################################################################
###
### Running command:
###
###   /home/biocbuild/R/R/bin/R CMD INSTALL STdeconvolve
###
##############################################################################
##############################################################################


* installing to library ‘/home/biocbuild/R/R-4.4.1/site-library’
ERROR: dependency ‘liger’ is not available for package ‘STdeconvolve’
* removing ‘/home/biocbuild/R/R-4.4.1/site-library/STdeconvolve’