Package: STdeconvolve Version: 1.10.0 Command: /Library/Frameworks/R.framework/Resources/bin/R CMD INSTALL STdeconvolve StartedAt: 2025-02-03 16:57:29 -0500 (Mon, 03 Feb 2025) EndedAt: 2025-02-03 16:57:30 -0500 (Mon, 03 Feb 2025) EllapsedTime: 0.3 seconds RetCode: 1 Status: ERROR