Package: STdeconvolve Version: 1.10.0 Command: /home/biocbuild/bbs-3.20-bioc/R/bin/R CMD build --keep-empty-dirs --no-resave-data --md5 STdeconvolve StartedAt: 2025-02-03 19:31:49 -0500 (Mon, 03 Feb 2025) EndedAt: 2025-02-03 19:31:50 -0500 (Mon, 03 Feb 2025) EllapsedTime: 1.0 seconds RetCode: 1 Status: ERROR PackageFile: None PackageFileSize: NA