Package: SUITOR Version: 1.8.0 Command: rm -rf SUITOR.buildbin-libdir && mkdir SUITOR.buildbin-libdir && /Users/biocbuild/BBS/utils/build-universal.sh SUITOR_1.8.0.tar.gz /Library/Frameworks/R.framework/Resources/bin/R SUITOR.buildbin-libdir StartedAt: 2025-02-01 17:06:37 -0500 (Sat, 01 Feb 2025) EndedAt: 2025-02-01 17:06:46 -0500 (Sat, 01 Feb 2025) EllapsedTime: 9.2 seconds RetCode: 0 Status: OK PackageFile: SUITOR_1.8.0.tgz PackageFileSize: 307.3 KiB