Package: SUITOR Version: 1.8.0 Command: /Library/Frameworks/R.framework/Resources/bin/R CMD build --keep-empty-dirs --no-resave-data SUITOR StartedAt: 2025-02-04 09:22:47 -0500 (Tue, 04 Feb 2025) EndedAt: 2025-02-04 09:24:20 -0500 (Tue, 04 Feb 2025) EllapsedTime: 92.1 seconds RetCode: 0 Status: OK PackageFile: SUITOR_1.8.0.tar.gz PackageFileSize: 252.3 KiB