Package: SUITOR Version: 1.8.0 Command: /Library/Frameworks/R.framework/Resources/bin/R CMD INSTALL SUITOR StartedAt: 2025-01-30 15:58:08 -0500 (Thu, 30 Jan 2025) EndedAt: 2025-01-30 15:58:15 -0500 (Thu, 30 Jan 2025) EllapsedTime: 6.9 seconds RetCode: 0 Status: OK