Package: SUITOR Version: 1.8.0 Command: rm -rf SUITOR.buildbin-libdir && mkdir SUITOR.buildbin-libdir && /Users/biocbuild/BBS/utils/build-universal.sh SUITOR_1.8.0.tar.gz /Library/Frameworks/R.framework/Resources/bin/R SUITOR.buildbin-libdir StartedAt: 2025-01-31 13:48:46 -0500 (Fri, 31 Jan 2025) EndedAt: 2025-01-31 13:49:01 -0500 (Fri, 31 Jan 2025) EllapsedTime: 14.8 seconds RetCode: 0 Status: OK PackageFile: SUITOR_1.8.0.tgz PackageFileSize: 310.4 KiB