Package: SUITOR Version: 1.8.0 Command: /Library/Frameworks/R.framework/Resources/bin/R CMD build --keep-empty-dirs --no-resave-data SUITOR StartedAt: 2025-02-03 22:44:44 -0500 (Mon, 03 Feb 2025) EndedAt: 2025-02-03 22:47:12 -0500 (Mon, 03 Feb 2025) EllapsedTime: 148.7 seconds RetCode: 0 Status: OK PackageFile: SUITOR_1.8.0.tar.gz PackageFileSize: 252.4 KiB