Package: SUITOR Version: 1.8.0 Command: chmod a+r SUITOR -R && F:\biocbuild\bbs-3.20-bioc\R\bin\R.exe CMD build --keep-empty-dirs --no-resave-data SUITOR StartedAt: 2025-02-03 22:28:42 -0500 (Mon, 03 Feb 2025) EndedAt: 2025-02-03 22:29:54 -0500 (Mon, 03 Feb 2025) EllapsedTime: 72.3 seconds RetCode: 0 Status: OK PackageFile: SUITOR_1.8.0.tar.gz PackageFileSize: 252.8 KiB