Package: SUITOR Version: 1.8.0 Command: /home/biocbuild/R/R/bin/R CMD build --keep-empty-dirs --no-resave-data SUITOR StartedAt: 2025-01-31 03:02:36 -0000 (Fri, 31 Jan 2025) EndedAt: 2025-01-31 03:04:20 -0000 (Fri, 31 Jan 2025) EllapsedTime: 104.1 seconds RetCode: 0 Status: OK PackageFile: SUITOR_1.8.0.tar.gz PackageFileSize: 246.4 KiB