Package: SUITOR Version: 1.8.0 Command: /home/biocbuild/R/R/bin/R CMD INSTALL SUITOR StartedAt: 2025-01-30 20:22:12 -0000 (Thu, 30 Jan 2025) EndedAt: 2025-01-30 20:22:19 -0000 (Thu, 30 Jan 2025) EllapsedTime: 6.6 seconds RetCode: 0 Status: OK