Package: SVMDO Version: 1.6.0 Command: /Library/Frameworks/R.framework/Resources/bin/R CMD build --keep-empty-dirs --no-resave-data SVMDO StartedAt: 2025-01-31 09:14:02 -0500 (Fri, 31 Jan 2025) EndedAt: 2025-01-31 09:14:48 -0500 (Fri, 31 Jan 2025) EllapsedTime: 46.6 seconds RetCode: 0 Status: OK PackageFile: SVMDO_1.6.0.tar.gz PackageFileSize: 2.379 MiB