Package: SVMDO Version: 1.6.0 Command: /Library/Frameworks/R.framework/Resources/bin/R CMD check --install=check:SVMDO.install-out.txt --library=/Library/Frameworks/R.framework/Resources/library --no-vignettes --timings SVMDO_1.6.0.tar.gz StartedAt: 2025-02-01 11:23:46 -0500 (Sat, 01 Feb 2025) EndedAt: 2025-02-01 11:29:28 -0500 (Sat, 01 Feb 2025) EllapsedTime: 342.7 seconds RetCode: 0 Status: OK CheckDir: SVMDO.Rcheck Warnings: 0