Package: SVMDO Version: 1.6.0 Command: /Library/Frameworks/R.framework/Resources/bin/R CMD build --keep-empty-dirs --no-resave-data SVMDO StartedAt: 2025-01-30 23:18:56 -0500 (Thu, 30 Jan 2025) EndedAt: 2025-01-30 23:20:19 -0500 (Thu, 30 Jan 2025) EllapsedTime: 83.0 seconds RetCode: 0 Status: OK PackageFile: SVMDO_1.6.0.tar.gz PackageFileSize: 2.379 MiB