Package: SVMDO Version: 1.6.0 Command: rm -rf SVMDO.buildbin-libdir && mkdir SVMDO.buildbin-libdir && F:\biocbuild\bbs-3.20-bioc\R\bin\R.exe CMD INSTALL --build --library=SVMDO.buildbin-libdir SVMDO_1.6.0.tar.gz StartedAt: 2025-02-04 09:38:12 -0500 (Tue, 04 Feb 2025) EndedAt: 2025-02-04 09:39:29 -0500 (Tue, 04 Feb 2025) EllapsedTime: 76.4 seconds RetCode: 0 Status: OK PackageFile: SVMDO_1.6.0.zip PackageFileSize: 2.367 MiB