Package: SVMDO Version: 1.6.0 Command: /home/biocbuild/R/R/bin/R CMD INSTALL SVMDO StartedAt: 2025-01-30 20:57:18 -0000 (Thu, 30 Jan 2025) EndedAt: 2025-01-30 20:58:01 -0000 (Thu, 30 Jan 2025) EllapsedTime: 42.7 seconds RetCode: 0 Status: OK