Package: SWATH2stats Version: 1.36.0 Command: /Library/Frameworks/R.framework/Resources/bin/R CMD check --install=check:SWATH2stats.install-out.txt --library=/Library/Frameworks/R.framework/Resources/library --no-vignettes --timings SWATH2stats_1.36.0.tar.gz StartedAt: 2025-02-05 12:17:56 -0500 (Wed, 05 Feb 2025) EndedAt: 2025-02-05 12:21:04 -0500 (Wed, 05 Feb 2025) EllapsedTime: 188.0 seconds RetCode: 1 Status: ERROR CheckDir: SWATH2stats.Rcheck Warnings: NA