Package: SWATH2stats Version: 1.36.0 Command: /home/biocbuild/R/R/bin/R CMD build --keep-empty-dirs --no-resave-data SWATH2stats StartedAt: 2024-11-20 04:22:08 -0000 (Wed, 20 Nov 2024) EndedAt: 2024-11-20 04:23:06 -0000 (Wed, 20 Nov 2024) EllapsedTime: 58.1 seconds RetCode: 0 Status: OK PackageFile: SWATH2stats_1.36.0.tar.gz PackageFileSize: 3.016 MiB