Package: SWATH2stats Version: 1.36.0 Command: /home/biocbuild/R/R/bin/R CMD check --install=check:SWATH2stats.install-out.txt --library=/home/biocbuild/R/R/site-library --no-vignettes --timings SWATH2stats_1.36.0.tar.gz StartedAt: 2024-11-20 13:05:03 -0000 (Wed, 20 Nov 2024) EndedAt: 2024-11-20 13:09:01 -0000 (Wed, 20 Nov 2024) EllapsedTime: 237.5 seconds RetCode: 0 Status: OK CheckDir: SWATH2stats.Rcheck Warnings: 0