Package: SWATH2stats Version: 1.36.0 Command: chmod a+r SWATH2stats -R && F:\biocbuild\bbs-3.20-bioc\R\bin\R.exe CMD build --keep-empty-dirs --no-resave-data SWATH2stats StartedAt: 2025-02-03 22:30:30 -0500 (Mon, 03 Feb 2025) EndedAt: 2025-02-03 22:32:17 -0500 (Mon, 03 Feb 2025) EllapsedTime: 107.6 seconds RetCode: 0 Status: OK PackageFile: SWATH2stats_1.36.0.tar.gz PackageFileSize: 2.925 MiB