Package: SWATH2stats Version: 1.36.0 Command: /home/biocbuild/R/R/bin/R CMD INSTALL SWATH2stats StartedAt: 2025-02-03 20:49:56 -0000 (Mon, 03 Feb 2025) EndedAt: 2025-02-03 20:50:17 -0000 (Mon, 03 Feb 2025) EllapsedTime: 21.3 seconds RetCode: 0 Status: OK