Package: Scale4C Version: 1.28.0 Command: /home/biocbuild/R/R/bin/R CMD build --keep-empty-dirs --no-resave-data Scale4C StartedAt: 2024-11-20 03:35:55 -0000 (Wed, 20 Nov 2024) EndedAt: 2024-11-20 03:37:53 -0000 (Wed, 20 Nov 2024) EllapsedTime: 118.2 seconds RetCode: 0 Status: OK PackageFile: Scale4C_1.28.0.tar.gz PackageFileSize: 4.895 MiB