Package: Scale4C Version: 1.28.0 Command: /Library/Frameworks/R.framework/Resources/bin/R CMD check --install=check:Scale4C.install-out.txt --library=/Library/Frameworks/R.framework/Resources/library --no-vignettes --timings Scale4C_1.28.0.tar.gz StartedAt: 2025-02-11 09:47:24 -0500 (Tue, 11 Feb 2025) EndedAt: 2025-02-11 09:54:05 -0500 (Tue, 11 Feb 2025) EllapsedTime: 401.2 seconds RetCode: 0 Status: OK CheckDir: Scale4C.Rcheck Warnings: 0