Package: Scale4C Version: 1.28.0 Command: rm -rf Scale4C.buildbin-libdir && mkdir Scale4C.buildbin-libdir && F:\biocbuild\bbs-3.20-bioc\R\bin\R.exe CMD INSTALL --build --library=Scale4C.buildbin-libdir Scale4C_1.28.0.tar.gz StartedAt: 2025-02-04 09:25:57 -0500 (Tue, 04 Feb 2025) EndedAt: 2025-02-04 09:26:50 -0500 (Tue, 04 Feb 2025) EllapsedTime: 52.3 seconds RetCode: 0 Status: OK PackageFile: Scale4C_1.28.0.zip PackageFileSize: 2.147 MiB